BEGIN:VCALENDAR
VERSION:2.0
PRODID:-//Northern Marianas Technical Institute - ECPv6.15.20//NONSGML v1.0//EN
CALSCALE:GREGORIAN
METHOD:PUBLISH
X-WR-CALNAME:Northern Marianas Technical Institute
X-ORIGINAL-URL:https://www.nmtechcnmi.org
X-WR-CALDESC:Events for Northern Marianas Technical Institute
REFRESH-INTERVAL;VALUE=DURATION:PT1H
X-Robots-Tag:noindex
X-PUBLISHED-TTL:PT1H
BEGIN:VTIMEZONE
TZID:Pacific/Saipan
BEGIN:STANDARD
TZOFFSETFROM:+1000
TZOFFSETTO:+1000
TZNAME:ChST
DTSTART:20240101T000000
END:STANDARD
END:VTIMEZONE
BEGIN:VEVENT
DTSTART;TZID=Pacific/Saipan:20251231T080000
DTEND;TZID=Pacific/Saipan:20251231T170000
DTSTAMP:20260424T043104
CREATED:20251209T223917Z
LAST-MODIFIED:20251209T223917Z
UID:10000008-1767168000-1767200400@www.nmtechcnmi.org
SUMMARY:New Year's Eve
DESCRIPTION:
URL:https://www.nmtechcnmi.org/event/new-years-eve/
END:VEVENT
END:VCALENDAR