BEGIN:VCALENDAR
VERSION:2.0
PRODID:-//Northern Marianas Technical Institute - ECPv6.15.20//NONSGML v1.0//EN
CALSCALE:GREGORIAN
METHOD:PUBLISH
X-ORIGINAL-URL:https://www.nmtechcnmi.org
X-WR-CALDESC:Events for Northern Marianas Technical Institute
REFRESH-INTERVAL;VALUE=DURATION:PT1H
X-Robots-Tag:noindex
X-PUBLISHED-TTL:PT1H
BEGIN:VTIMEZONE
TZID:Pacific/Saipan
BEGIN:STANDARD
TZOFFSETFROM:+1000
TZOFFSETTO:+1000
TZNAME:ChST
DTSTART:20250101T000000
END:STANDARD
END:VTIMEZONE
BEGIN:VEVENT
DTSTART;VALUE=DATE:20260316
DTEND;VALUE=DATE:20260321
DTSTAMP:20260424T015630
CREATED:20260317T012831Z
LAST-MODIFIED:20260317T012831Z
UID:10000010-1773619200-1774051199@www.nmtechcnmi.org
SUMMARY:OSHA - Pacific Coast Safetyfest
DESCRIPTION:
URL:https://www.nmtechcnmi.org/event/osha-pacific-coast-safetyfest/
END:VEVENT
BEGIN:VEVENT
DTSTART;VALUE=DATE:20260318
DTEND;VALUE=DATE:20260319
DTSTAMP:20260424T015630
CREATED:20260317T012810Z
LAST-MODIFIED:20260317T012810Z
UID:10000009-1773792000-1773878399@www.nmtechcnmi.org
SUMMARY:NMTechXPSS MOU Signing
DESCRIPTION:
URL:https://www.nmtechcnmi.org/event/nmtechxpss-mou-signing/
END:VEVENT
END:VCALENDAR