BEGIN:VCALENDAR
VERSION:2.0
PRODID:-//Northern Marianas Technical Institute - ECPv6.15.20//NONSGML v1.0//EN
CALSCALE:GREGORIAN
METHOD:PUBLISH
X-WR-CALNAME:Northern Marianas Technical Institute
X-ORIGINAL-URL:https://www.nmtechcnmi.org
X-WR-CALDESC:Events for Northern Marianas Technical Institute
REFRESH-INTERVAL;VALUE=DURATION:PT1H
X-Robots-Tag:noindex
X-PUBLISHED-TTL:PT1H
BEGIN:VTIMEZONE
TZID:Pacific/Saipan
BEGIN:STANDARD
TZOFFSETFROM:+1000
TZOFFSETTO:+1000
TZNAME:ChST
DTSTART:20250101T000000
END:STANDARD
END:VTIMEZONE
BEGIN:VEVENT
DTSTART;VALUE=DATE:20260316
DTEND;VALUE=DATE:20260321
DTSTAMP:20260424T015445
CREATED:20260317T012831Z
LAST-MODIFIED:20260317T012831Z
UID:10000010-1773619200-1774051199@www.nmtechcnmi.org
SUMMARY:OSHA - Pacific Coast Safetyfest
DESCRIPTION:
URL:https://www.nmtechcnmi.org/event/osha-pacific-coast-safetyfest/
END:VEVENT
BEGIN:VEVENT
DTSTART;VALUE=DATE:20260320
DTEND;VALUE=DATE:20260321
DTSTAMP:20260424T015445
CREATED:20260317T012855Z
LAST-MODIFIED:20260317T012855Z
UID:10000011-1773964800-1774051199@www.nmtechcnmi.org
SUMMARY:Active Shooter Training with DPS
DESCRIPTION:
URL:https://www.nmtechcnmi.org/event/active-shooter-training-with-dps/
END:VEVENT
BEGIN:VEVENT
DTSTART;VALUE=DATE:20260320
DTEND;VALUE=DATE:20260321
DTSTAMP:20260424T015445
CREATED:20260317T012930Z
LAST-MODIFIED:20260317T012930Z
UID:10000012-1773964800-1774051199@www.nmtechcnmi.org
SUMMARY:Campus tour with TMS
DESCRIPTION:
URL:https://www.nmtechcnmi.org/event/campus-tour-with-tms/
END:VEVENT
END:VCALENDAR